BEGIN:VCALENDAR
VERSION:2.0
PRODID:-//DJ-Teddy-Events - ECPv6.15.20//NONSGML v1.0//EN
CALSCALE:GREGORIAN
METHOD:PUBLISH
X-WR-CALNAME:DJ-Teddy-Events
X-ORIGINAL-URL:https://dj-teddy-events.com
X-WR-CALDESC:Veranstaltungen für DJ-Teddy-Events
REFRESH-INTERVAL;VALUE=DURATION:PT1H
X-Robots-Tag:noindex
X-PUBLISHED-TTL:PT1H
BEGIN:VTIMEZONE
TZID:Europe/Helsinki
BEGIN:DAYLIGHT
TZOFFSETFROM:+0200
TZOFFSETTO:+0300
TZNAME:EEST
DTSTART:20240331T010000
END:DAYLIGHT
BEGIN:STANDARD
TZOFFSETFROM:+0300
TZOFFSETTO:+0200
TZNAME:EET
DTSTART:20241027T010000
END:STANDARD
BEGIN:DAYLIGHT
TZOFFSETFROM:+0200
TZOFFSETTO:+0300
TZNAME:EEST
DTSTART:20250330T010000
END:DAYLIGHT
BEGIN:STANDARD
TZOFFSETFROM:+0300
TZOFFSETTO:+0200
TZNAME:EET
DTSTART:20251026T010000
END:STANDARD
BEGIN:DAYLIGHT
TZOFFSETFROM:+0200
TZOFFSETTO:+0300
TZNAME:EEST
DTSTART:20260329T010000
END:DAYLIGHT
BEGIN:STANDARD
TZOFFSETFROM:+0300
TZOFFSETTO:+0200
TZNAME:EET
DTSTART:20261025T010000
END:STANDARD
BEGIN:DAYLIGHT
TZOFFSETFROM:+0200
TZOFFSETTO:+0300
TZNAME:EEST
DTSTART:20270328T010000
END:DAYLIGHT
BEGIN:STANDARD
TZOFFSETFROM:+0300
TZOFFSETTO:+0200
TZNAME:EET
DTSTART:20271031T010000
END:STANDARD
END:VTIMEZONE
BEGIN:VEVENT
DTSTART;TZID=Europe/Helsinki:20251231T200000
DTEND;TZID=Europe/Helsinki:20260201T020000
DTSTAMP:20260420T210552
CREATED:20251013T152846Z
LAST-MODIFIED:20251014T082639Z
UID:196-1767211200-1769911200@dj-teddy-events.com
SUMMARY:Große Silvesterparty im Abendrot
DESCRIPTION:Karten 80€ Buffet und Getränke All incl.\nVorbestellungen bis zum 31.10.2025 unter: Sabrina Brösecke +49 173 4959498 
URL:https://dj-teddy-events.com/event/grosse-silvesterparty-im-abendrot/
LOCATION:Gaststätte Abendrot\, Am Gallberg\, Brandenburg\, Brandenburg\, 14770\, Germany
ATTACH;FMTTYPE=image/jpeg:https://dj-teddy-events.com/wp-content/uploads/2025/10/Folie1-2.jpg
END:VEVENT
END:VCALENDAR