BEGIN:VCALENDAR
VERSION:2.0
PRODID:-//DJ-Teddy-Events - ECPv6.15.20//NONSGML v1.0//EN
CALSCALE:GREGORIAN
METHOD:PUBLISH
X-WR-CALNAME:DJ-Teddy-Events
X-ORIGINAL-URL:https://dj-teddy-events.com
X-WR-CALDESC:Veranstaltungen für DJ-Teddy-Events
REFRESH-INTERVAL;VALUE=DURATION:PT1H
X-Robots-Tag:noindex
X-PUBLISHED-TTL:PT1H
BEGIN:VTIMEZONE
TZID:Europe/Helsinki
BEGIN:DAYLIGHT
TZOFFSETFROM:+0200
TZOFFSETTO:+0300
TZNAME:EEST
DTSTART:20250330T010000
END:DAYLIGHT
BEGIN:STANDARD
TZOFFSETFROM:+0300
TZOFFSETTO:+0200
TZNAME:EET
DTSTART:20251026T010000
END:STANDARD
BEGIN:DAYLIGHT
TZOFFSETFROM:+0200
TZOFFSETTO:+0300
TZNAME:EEST
DTSTART:20260329T010000
END:DAYLIGHT
BEGIN:STANDARD
TZOFFSETFROM:+0300
TZOFFSETTO:+0200
TZNAME:EET
DTSTART:20261025T010000
END:STANDARD
BEGIN:DAYLIGHT
TZOFFSETFROM:+0200
TZOFFSETTO:+0300
TZNAME:EEST
DTSTART:20270328T010000
END:DAYLIGHT
BEGIN:STANDARD
TZOFFSETFROM:+0300
TZOFFSETTO:+0200
TZNAME:EET
DTSTART:20271031T010000
END:STANDARD
END:VTIMEZONE
BEGIN:VEVENT
DTSTART;TZID=Europe/Helsinki:20260402T180000
DTEND;TZID=Europe/Helsinki:20260402T230000
DTSTAMP:20260420T175336
CREATED:20260310T053935Z
LAST-MODIFIED:20260310T053936Z
UID:259-1775152800-1775170800@dj-teddy-events.com
SUMMARY:Osterfeuer 2026
DESCRIPTION:  \n \n 
URL:https://dj-teddy-events.com/event/osterfeuer-2026/
LOCATION:Gaststätte zum Elfmeter\, Werner-Seelenbinder-Sportplatz\, in der Brielower Straße\, Brandenburg an der Havel\, Brandenburg\, 14770\, Germany
END:VEVENT
END:VCALENDAR