BEGIN:VCALENDAR
VERSION:2.0
PRODID:-//DJ-Teddy-Events - ECPv6.15.20//NONSGML v1.0//EN
CALSCALE:GREGORIAN
METHOD:PUBLISH
X-ORIGINAL-URL:https://dj-teddy-events.com
X-WR-CALDESC:Veranstaltungen für DJ-Teddy-Events
REFRESH-INTERVAL;VALUE=DURATION:PT1H
X-Robots-Tag:noindex
X-PUBLISHED-TTL:PT1H
BEGIN:VTIMEZONE
TZID:Europe/Helsinki
BEGIN:DAYLIGHT
TZOFFSETFROM:+0200
TZOFFSETTO:+0300
TZNAME:EEST
DTSTART:20240331T010000
END:DAYLIGHT
BEGIN:STANDARD
TZOFFSETFROM:+0300
TZOFFSETTO:+0200
TZNAME:EET
DTSTART:20241027T010000
END:STANDARD
BEGIN:DAYLIGHT
TZOFFSETFROM:+0200
TZOFFSETTO:+0300
TZNAME:EEST
DTSTART:20250330T010000
END:DAYLIGHT
BEGIN:STANDARD
TZOFFSETFROM:+0300
TZOFFSETTO:+0200
TZNAME:EET
DTSTART:20251026T010000
END:STANDARD
BEGIN:DAYLIGHT
TZOFFSETFROM:+0200
TZOFFSETTO:+0300
TZNAME:EEST
DTSTART:20260329T010000
END:DAYLIGHT
BEGIN:STANDARD
TZOFFSETFROM:+0300
TZOFFSETTO:+0200
TZNAME:EET
DTSTART:20261025T010000
END:STANDARD
END:VTIMEZONE
BEGIN:VEVENT
DTSTART;TZID=Europe/Helsinki:20251206T190000
DTEND;TZID=Europe/Helsinki:20251206T233000
DTSTAMP:20260421T023521
CREATED:20251113T183229Z
LAST-MODIFIED:20251113T190719Z
UID:243-1765047600-1765063800@dj-teddy-events.com
SUMMARY:Nicolausparty mit Schrottwichteln im Abendrot
DESCRIPTION:
URL:https://dj-teddy-events.com/event/nicolausparty-mit-schrottwichteln-im-abendrot/
LOCATION:Gaststätte Abendrot\, Am Gallberg\, Brandenburg\, Brandenburg\, 14770\, Germany
ATTACH;FMTTYPE=image/jpeg:https://dj-teddy-events.com/wp-content/uploads/2025/11/Folie1-1.jpg
END:VEVENT
END:VCALENDAR